BEGIN:VCALENDAR
METHOD:PUBLISH
VERSION:2.0
PRODID:-//Apple Inc.//iCal 4.0.1//EN
BEGIN:VEVENT
UID:24262868
DTSTAMP:20260423T060456Z
DTSTART;TZID=US/Eastern:20191202T130000
DTEND;TZID=US/Eastern:20191202T150000
SUMMARY:Membership Meeting
DESCRIPTION:<![CDATA[]]>
END:VEVENT
CALSCALE:GREGORIAN
END:VCALENDAR
 