BEGIN:VCALENDAR
METHOD:PUBLISH
VERSION:2.0
PRODID:-//Apple Inc.//iCal 4.0.1//EN
BEGIN:VEVENT
UID:8850498
DTSTAMP:20260421T140406Z
DTSTART;VALUE=DATE:20200918
DTEND;VALUE=DATE:20200918
SUMMARY:Last Day to Complete Contract Survey
DESCRIPTION:<![CDATA[Last day to complete online grocery contract surveys for those members' contracts expiring March 6/7\, 2021.]]>
END:VEVENT
CALSCALE:GREGORIAN
END:VCALENDAR
 