BEGIN:VCALENDAR
METHOD:PUBLISH
VERSION:2.0
PRODID:-//Apple Inc.//iCal 4.0.1//EN
BEGIN:VEVENT
UID:20525864
DTSTAMP:20260422T060434Z
DTSTART;VALUE=DATE:20210113
DTEND;VALUE=DATE:20210113
SUMMARY:Union Contract Bargaining
DESCRIPTION:<![CDATA[UFCW Local 663 union contract grocery bargaining with Kowalski's Markets.]]>
END:VEVENT
CALSCALE:GREGORIAN
END:VCALENDAR
 