BEGIN:VCALENDAR
METHOD:PUBLISH
VERSION:2.0
PRODID:-//Apple Inc.//iCal 4.0.1//EN
BEGIN:VEVENT
UID:4755075
DTSTAMP:20260423T010437Z
DTSTART;VALUE=DATE:20210107
DTEND;VALUE=DATE:20210107
SUMMARY:Union Contract Bargaining
DESCRIPTION:<![CDATA[UFCW Local 663 Union Contract Bargaining with Haug's &amp; Radermacher's companies.]]>
END:VEVENT
CALSCALE:GREGORIAN
END:VCALENDAR
 