BEGIN:VCALENDAR
METHOD:PUBLISH
VERSION:2.0
PRODID:-//Apple Inc.//iCal 4.0.1//EN
BEGIN:VEVENT
UID:19550808
DTSTAMP:20260423T080443Z
DTSTART;VALUE=DATE:20210404
DTEND;VALUE=DATE:20210404
SUMMARY:Easter
DESCRIPTION:<![CDATA[]]>
END:VEVENT
CALSCALE:GREGORIAN
END:VCALENDAR
 