BEGIN:VCALENDAR
METHOD:PUBLISH
VERSION:2.0
PRODID:-//Apple Inc.//iCal 4.0.1//EN
BEGIN:VEVENT
UID:3531661
DTSTAMP:20260423T220436Z
DTSTART;TZID=US/Eastern:20210501T070000
DTEND;TZID=US/Eastern:20210501T100000
SUMMARY:Free Food Giveaway in Worthington
DESCRIPTION:<![CDATA[Free Food Giveaway in Worthington at Senior High School begins at noon until all food is given away]]>
END:VEVENT
CALSCALE:GREGORIAN
END:VCALENDAR
 