BEGIN:VCALENDAR
METHOD:PUBLISH
VERSION:2.0
PRODID:-//Apple Inc.//iCal 4.0.1//EN
BEGIN:VEVENT
UID:1449846
DTSTAMP:20260423T090441Z
DTSTART;TZID=US/Eastern:20220502T113000
DTEND;TZID=US/Eastern:20220502T130000
SUMMARY:Membership Meeting
DESCRIPTION:<![CDATA[IN PERSON Union Membership Meeting! 
Embassy Suites by Hilton Minneapolis North
6300 Earle Brown Dr\, Brooklyn Center\, MN 55430]]>
END:VEVENT
CALSCALE:GREGORIAN
END:VCALENDAR
 