BEGIN:VCALENDAR
METHOD:PUBLISH
VERSION:2.0
PRODID:-//Apple Inc.//iCal 4.0.1//EN
BEGIN:VEVENT
UID:22177014
DTSTAMP:20260420T200411Z
DTSTART;TZID=US/Eastern:20221114T113000
DTEND;TZID=US/Eastern:20221114T133000
SUMMARY:Monthly Membership Meeting
DESCRIPTION:<![CDATA[Monthly membership meeting in person at the Embassy Suites Hilton North Minneapolis\, 6300 Earle Brown Dr\, Brooklyn Center\, MN 55430. 4:30pm. Zoom option will be available\, members only and registration will be required to participate via Zoom. Text will go out to register one week before meeting from a union representative.]]>
END:VEVENT
CALSCALE:GREGORIAN
END:VCALENDAR
 